BEGIN:VCALENDAR
VERSION:2.0
PRODID:-//wp-events-plugin.com//7.2.3.1//EN
BEGIN:VEVENT
UID:36@robinsonpubliclibrary.com
DTSTART;TZID=America/Chicago:20221018T170000
DTEND;TZID=America/Chicago:20221018T190000
DTSTAMP:20210909T192025Z
URL:https://robinsonpubliclibrary.com/events/board-of-trustees-meeting-202
 2-10-18/
SUMMARY:Board of Trustees Meeting
DESCRIPTION:Monthly meeting of the Robinson Public Library Board of Trustee
 s
CATEGORIES:Board Meetings
END:VEVENT
BEGIN:VTIMEZONE
TZID:America/Chicago
X-LIC-LOCATION:America/Chicago
BEGIN:DAYLIGHT
DTSTART:20220313T030000
TZOFFSETFROM:-0600
TZOFFSETTO:-0500
TZNAME:CDT
END:DAYLIGHT
END:VTIMEZONE
END:VCALENDAR