BEGIN:VCALENDAR
VERSION:2.0
PRODID:-//wp-events-plugin.com//7.2.3.1//EN
BEGIN:VEVENT
UID:38@robinsonpubliclibrary.com
DTSTART;TZID=America/Chicago:20221220T170000
DTEND;TZID=America/Chicago:20221220T190000
DTSTAMP:20210909T192025Z
URL:https://robinsonpubliclibrary.com/events/board-of-trustees-meeting-202
 2-12-20/
SUMMARY:Board of Trustees Meeting
DESCRIPTION:Monthly meeting of the Robinson Public Library Board of Trustee
 s
CATEGORIES:Board Meetings
END:VEVENT
BEGIN:VTIMEZONE
TZID:America/Chicago
X-LIC-LOCATION:America/Chicago
BEGIN:STANDARD
DTSTART:20221106T010000
TZOFFSETFROM:-0500
TZOFFSETTO:-0600
TZNAME:CST
END:STANDARD
END:VTIMEZONE
END:VCALENDAR