BEGIN:VCALENDAR
VERSION:2.0
PRODID:-//wp-events-plugin.com//7.2.3.1//EN
BEGIN:VEVENT
UID:96@robinsonpubliclibrary.com
DTSTART;TZID=America/Chicago:20220616T190000
DTEND;TZID=America/Chicago:20220616T190000
DTSTAMP:20220606T143628Z
URL:https://robinsonpubliclibrary.com/events/crawford-county-this-is-our-s
 tory/
SUMMARY:Crawford County: This Is Our Story
DESCRIPTION:
CATEGORIES:Community
END:VEVENT
BEGIN:VTIMEZONE
TZID:America/Chicago
X-LIC-LOCATION:America/Chicago
BEGIN:DAYLIGHT
DTSTART:20220313T030000
TZOFFSETFROM:-0600
TZOFFSETTO:-0500
TZNAME:CDT
END:DAYLIGHT
END:VTIMEZONE
END:VCALENDAR