BEGIN:VCALENDAR
VERSION:2.0
PRODID:-//wp-events-plugin.com//7.2.3.1//EN
BEGIN:VEVENT
UID:182@robinsonpubliclibrary.com
DTSTART;TZID=America/Chicago:20230215T120000
DTEND;TZID=America/Chicago:20230215T130000
DTSTAMP:20230206T050303Z
URL:https://robinsonpubliclibrary.com/events/family-search-2023-02-15/
SUMMARY:Family Search
DESCRIPTION:A definition found in the dictionary states that ‘genealogy i
 s the science of tracing your family back through the centuries. It’s a 
 record or a table showing the descent of an individual or a family from a 
 certain ancestor. It is the study of your pedigree.’\n\nWhat the diction
 ary does not explain is the fun and the challenge you can have as you clim
 b your family tree. Think of genealogy as a big\, huge puzzle. And you are
  but one piece of that puzzle. Your mother\, your father\, your grandparen
 ts\, they are all pieces of that same puzzle. But this puzzle has life in 
 it\, the life of all your ancestors. This is a very personal puzzle becaus
 e once it’s complete\, you will see how your life is interwoven with all
  the other pieces.\n\nThink of genealogy as a hunt\, be a detective\, ask 
 questions\, look under every stone\, accumulate data\, evaluate your findi
 ngs\, use your imagination and have lots of patience\, solve the mysteries
  of that puzzle and then reap the rewards once that puzzle is complete.\n\
 nYou see\, the mystery in this puzzle is that once you get started\, you n
 ever know where you’re going or what you’ll find once you get there. Y
 ou may find doctors\, judges and lawyers or you may find criminals\, thiev
 es and loafers. But whatever you find\, they will be an important part of 
 your heritage.
CATEGORIES:Community
END:VEVENT
BEGIN:VTIMEZONE
TZID:America/Chicago
X-LIC-LOCATION:America/Chicago
BEGIN:STANDARD
DTSTART:20221106T010000
TZOFFSETFROM:-0500
TZOFFSETTO:-0600
TZNAME:CST
END:STANDARD
END:VTIMEZONE
END:VCALENDAR