BEGIN:VCALENDAR
VERSION:2.0
PRODID:-//wp-events-plugin.com//7.2.3.1//EN
BEGIN:VEVENT
UID:15@robinsonpubliclibrary.com
DTSTART;TZID=America/Chicago;VALUE=DATE:20211009
DTEND;TZID=America/Chicago;VALUE=DATE:20211010
DTSTAMP:20210909T191554Z
URL:https://robinsonpubliclibrary.com/events/library-crawl-2021-10-09/
SUMMARY:Library Crawl
DESCRIPTION:Libraries from around the region are showing off their places.
   See how many participating libraries you can visit during the 3rd Annua
 l Library Crawl.
END:VEVENT
BEGIN:VTIMEZONE
TZID:America/Chicago
X-LIC-LOCATION:America/Chicago
BEGIN:DAYLIGHT
DTSTART:20210314T030000
TZOFFSETFROM:-0600
TZOFFSETTO:-0500
TZNAME:CDT
END:DAYLIGHT
END:VTIMEZONE
END:VCALENDAR