BEGIN:VCALENDAR
VERSION:2.0
PRODID:-//wp-events-plugin.com//7.2.3.1//EN
BEGIN:VEVENT
UID:54@robinsonpubliclibrary.com
DTSTART;TZID=America/Chicago:20220628T140000
DTEND;TZID=America/Chicago:20220628T140000
DTSTAMP:20220517T153036Z
URL:https://robinsonpubliclibrary.com/events/robinson-summer-reading-chris
 -fascione/
SUMMARY:Robinson Summer Reading: Chris Fascione
DESCRIPTION:
CATEGORIES:Children
END:VEVENT
BEGIN:VTIMEZONE
TZID:America/Chicago
X-LIC-LOCATION:America/Chicago
BEGIN:DAYLIGHT
DTSTART:20220313T030000
TZOFFSETFROM:-0600
TZOFFSETTO:-0500
TZNAME:CDT
END:DAYLIGHT
END:VTIMEZONE
END:VCALENDAR